BEGIN:VCALENDAR
VERSION:2.0
PRODID:-//Commune de Walferdange - ECPv4.7.3//NONSGML v1.0//EN
CALSCALE:GREGORIAN
METHOD:PUBLISH
X-WR-CALNAME:Commune de Walferdange
X-ORIGINAL-URL:https://walfer.lu
X-WR-CALDESC:Événements pour Commune de Walferdange
BEGIN:VEVENT
DTSTART;TZID=Europe/Luxembourg:20210805T140000
DTEND;TZID=Europe/Luxembourg:20210805T140000
DTSTAMP:20211011T104839
CREATED:20210421T130602Z
LAST-MODIFIED:20210426T095852Z
UID:75454-1628172000-1628172000@walfer.lu
SUMMARY:Exposition : Sylvie-Anne Thyes - La gravure … ma passion
DESCRIPTION:
URL:https://walfer.lu/event/exposition-sylvie-anne-thyes-la-gravure-ma-passion-3/
LOCATION:CAW\, United States
GEO:37.09024;-95.712891
CATEGORIES:Manifestations
END:VEVENT
BEGIN:VEVENT
DTSTART;TZID=Europe/Luxembourg:20210805T140000
DTEND;TZID=Europe/Luxembourg:20210805T140000
DTSTAMP:20211011T104839
CREATED:20210421T130614Z
LAST-MODIFIED:20210426T095857Z
UID:75456-1628172000-1628172000@walfer.lu
SUMMARY:Exposition : Rétrospective Atelier Ray Lohr\, Walferdange 2000 - 2020
DESCRIPTION:
URL:https://walfer.lu/event/exposition-retrospective-atelier-ray-lohr-walferdange-2000-2020-2/
LOCATION:Kulturschapp\, United States
GEO:37.09024;-95.712891
CATEGORIES:Manifestations
END:VEVENT
BEGIN:VEVENT
DTSTART;TZID=Europe/Luxembourg:20210805T150000
DTEND;TZID=Europe/Luxembourg:20210805T150000
DTSTAMP:20211011T104839
CREATED:20210421T130609Z
LAST-MODIFIED:20210426T095856Z
UID:75455-1628175600-1628175600@walfer.lu
SUMMARY:Visite guidée par l'artiste : Sylvie-Anne Thyes - La gravure … ma passion
DESCRIPTION:
URL:https://walfer.lu/event/visite-guidee-par-lartiste-sylvie-anne-thyes-la-gravure-ma-passion/
LOCATION:CAW\, United States
GEO:37.09024;-95.712891
CATEGORIES:Manifestations
END:VEVENT
END:VCALENDAR