BEGIN:VCALENDAR
VERSION:2.0
PRODID:-//Commune de Walferdange - ECPv4.7.3//NONSGML v1.0//EN
CALSCALE:GREGORIAN
METHOD:PUBLISH
X-WR-CALNAME:Commune de Walferdange
X-ORIGINAL-URL:https://walfer.lu
X-WR-CALDESC:Événements pour Commune de Walferdange
BEGIN:VEVENT
DTSTART;TZID=Europe/Luxembourg:20210205T140000
DTEND;TZID=Europe/Luxembourg:20210205T140000
DTSTAMP:20210424T141628
CREATED:20210421T130541Z
LAST-MODIFIED:20210421T130541Z
UID:75450-1612533600-1612533600@walfer.lu
SUMMARY:D' Walfer Foto-Frënn - Salon d'Auteurs 2021
DESCRIPTION:
URL:https://walfer.lu/event/d-walfer-foto-frenn-salon-dauteurs-2021/
LOCATION:CAW\, United States
GEO:37.09024;-95.712891
CATEGORIES:Manifestations
END:VEVENT
BEGIN:VEVENT
DTSTART;TZID=Europe/Luxembourg:20210205T140000
DTEND;TZID=Europe/Luxembourg:20210205T140000
DTSTAMP:20210424T141628
CREATED:20210421T130544Z
LAST-MODIFIED:20210421T130544Z
UID:75451-1612533600-1612533600@walfer.lu
SUMMARY:Exposition : Rétrospective Atelier Ray Lohr\, Walferdange 2000 - 2020
DESCRIPTION:
URL:https://walfer.lu/event/exposition-retrospective-atelier-ray-lohr-walferdange-2000-2020/
LOCATION:Kulturschapp\, United States
GEO:37.09024;-95.712891
CATEGORIES:Manifestations
END:VEVENT
END:VCALENDAR