BEGIN:VCALENDAR
VERSION:2.0
PRODID:-//Commune de Walferdange - ECPv4.7.3//NONSGML v1.0//EN
CALSCALE:GREGORIAN
METHOD:PUBLISH
X-WR-CALNAME:Commune de Walferdange
X-ORIGINAL-URL:https://walfer.lu
X-WR-CALDESC:Événements pour Commune de Walferdange
BEGIN:VEVENT
DTSTART;VALUE=DATE:20211202
DTEND;VALUE=DATE:20211203
DTSTAMP:20211008T114524
CREATED:20201229T090835Z
LAST-MODIFIED:20201229T090835Z
UID:73953-1638403200-1638489599@walfer.lu
SUMMARY:Verre
DESCRIPTION:
URL:https://walfer.lu/event/verre-70/2021-12-02/
CATEGORIES:Déchets
END:VEVENT
END:VCALENDAR