BEGIN:VCALENDAR
VERSION:2.0
PRODID:-//Commune de Walferdange - ECPv4.7.3//NONSGML v1.0//EN
CALSCALE:GREGORIAN
METHOD:PUBLISH
X-WR-CALNAME:Commune de Walferdange
X-ORIGINAL-URL:https://walfer.lu
X-WR-CALDESC:Événements pour Commune de Walferdange
BEGIN:VEVENT
DTSTART;VALUE=DATE:20210908
DTEND;VALUE=DATE:20210909
DTSTAMP:20211008T113802
CREATED:20201229T082953Z
LAST-MODIFIED:20201229T082953Z
UID:73915-1631059200-1631145599@walfer.lu
SUMMARY:Valorlux
DESCRIPTION:
URL:https://walfer.lu/event/valorlux-44/2021-09-08/
CATEGORIES:Déchets
END:VEVENT
END:VCALENDAR