BEGIN:VCALENDAR
VERSION:2.0
PRODID:-//Commune de Walferdange - ECPv4.7.3//NONSGML v1.0//EN
CALSCALE:GREGORIAN
METHOD:PUBLISH
X-WR-CALNAME:Commune de Walferdange
X-ORIGINAL-URL:https://walfer.lu
X-WR-CALDESC:Événements pour Commune de Walferdange
BEGIN:VEVENT
DTSTART;VALUE=DATE:20210614
DTEND;VALUE=DATE:20210615
DTSTAMP:20210423T082837
CREATED:20201229T080412Z
LAST-MODIFIED:20201229T080412Z
UID:73820-1623628800-1623715199@walfer.lu
SUMMARY:Déchets de jardinage
DESCRIPTION:
URL:https://walfer.lu/event/dechets-de-jardinage-115/2021-06-14/
CATEGORIES:Déchets
END:VEVENT
END:VCALENDAR