BEGIN:VCALENDAR
VERSION:2.0
PRODID:-//Commune de Walferdange - ECPv4.7.3//NONSGML v1.0//EN
CALSCALE:GREGORIAN
METHOD:PUBLISH
X-WR-CALNAME:Commune de Walferdange
X-ORIGINAL-URL:https://walfer.lu
X-WR-CALDESC:Événements pour Commune de Walferdange
BEGIN:VEVENT
DTSTART;VALUE=DATE:20210809
DTEND;VALUE=DATE:20210810
DTSTAMP:20211008T231420
CREATED:20201229T080412Z
LAST-MODIFIED:20201229T080412Z
UID:73828-1628467200-1628553599@walfer.lu
SUMMARY:Déchets de jardinage
DESCRIPTION:
URL:https://walfer.lu/event/dechets-de-jardinage-115/2021-08-09/
CATEGORIES:Déchets
END:VEVENT
BEGIN:VEVENT
DTSTART;TZID=Europe/Luxembourg:20210809T150000
DTEND;TZID=Europe/Luxembourg:20210809T150000
DTSTAMP:20211008T231420
CREATED:20210920T135527Z
LAST-MODIFIED:20210920T140946Z
UID:77681-1628521200-1628521200@walfer.lu
SUMMARY:Exposition : Choix d'art de Juliette Haag et Assy Jans
DESCRIPTION:
URL:https://walfer.lu/event/exposition-choix-dart-de-juliette-haag-et-assy-jans-7/
LOCATION:CAW\, United States
GEO:37.09024;-95.712891
CATEGORIES:Manifestations
END:VEVENT
END:VCALENDAR