BEGIN:VCALENDAR
VERSION:2.0
PRODID:-//Commune de Walferdange - ECPv4.7.3//NONSGML v1.0//EN
CALSCALE:GREGORIAN
METHOD:PUBLISH
X-WR-CALNAME:Commune de Walferdange
X-ORIGINAL-URL:https://walfer.lu
X-WR-CALDESC:Événements pour Commune de Walferdange
BEGIN:VEVENT
DTSTART;VALUE=DATE:20210806
DTEND;VALUE=DATE:20210807
DTSTAMP:20211008T231359
CREATED:20201229T081025Z
LAST-MODIFIED:20201229T081025Z
UID:73872-1628208000-1628294399@walfer.lu
SUMMARY:Déchets ménagers
DESCRIPTION:
URL:https://walfer.lu/event/dechets-menagers-134/2021-08-06/
CATEGORIES:Déchets
END:VEVENT
BEGIN:VEVENT
DTSTART;VALUE=DATE:20210806
DTEND;VALUE=DATE:20210807
DTSTAMP:20211008T231359
CREATED:20201229T081543Z
LAST-MODIFIED:20201229T081543Z
UID:73894-1628208000-1628294399@walfer.lu
SUMMARY:Sacs jaunes
DESCRIPTION:
URL:https://walfer.lu/event/sacs-jaunes-34/2021-08-06/
CATEGORIES:Déchets
END:VEVENT
BEGIN:VEVENT
DTSTART;VALUE=DATE:20210806
DTEND;VALUE=DATE:20210807
DTSTAMP:20211008T231359
CREATED:20201229T091734Z
LAST-MODIFIED:20201229T091734Z
UID:73959-1628208000-1628294399@walfer.lu
SUMMARY:SDK
DESCRIPTION:
URL:https://walfer.lu/event/sdk-10/2021-08-06/
CATEGORIES:Déchets
END:VEVENT
BEGIN:VEVENT
DTSTART;TZID=Europe/Luxembourg:20210806T150000
DTEND;TZID=Europe/Luxembourg:20210806T150000
DTSTAMP:20211008T231359
CREATED:20210618T074655Z
LAST-MODIFIED:20210618T074655Z
UID:76163-1628262000-1628262000@walfer.lu
SUMMARY:Tir à l'arc
DESCRIPTION:
URL:https://walfer.lu/event/tir-a-larc/
LOCATION:Jugendhaus Woodstock\, United States
GEO:37.09024;-95.712891
END:VEVENT
BEGIN:VEVENT
DTSTART;TZID=Europe/Luxembourg:20210806T150000
DTEND;TZID=Europe/Luxembourg:20210806T150000
DTSTAMP:20211008T231359
CREATED:20210618T074655Z
LAST-MODIFIED:20210618T074655Z
UID:76164-1628262000-1628262000@walfer.lu
SUMMARY:Tir à l'arc
DESCRIPTION:
URL:https://walfer.lu/event/tir-a-larc/
LOCATION:Jugendhaus Woodstock\, United States
GEO:37.09024;-95.712891
CATEGORIES:Manifestations
END:VEVENT
END:VCALENDAR