BEGIN:VCALENDAR
VERSION:2.0
PRODID:-//Commune de Walferdange - ECPv4.7.3//NONSGML v1.0//EN
CALSCALE:GREGORIAN
METHOD:PUBLISH
X-WR-CALNAME:Commune de Walferdange
X-ORIGINAL-URL:https://walfer.lu
X-WR-CALDESC:Événements pour Commune de Walferdange
BEGIN:VEVENT
DTSTART;VALUE=DATE:20210730
DTEND;VALUE=DATE:20210731
DTSTAMP:20211008T231244
CREATED:20201229T081025Z
LAST-MODIFIED:20201229T081025Z
UID:73871-1627603200-1627689599@walfer.lu
SUMMARY:Déchets ménagers
DESCRIPTION:
URL:https://walfer.lu/event/dechets-menagers-134/2021-07-30/
CATEGORIES:Déchets
END:VEVENT
BEGIN:VEVENT
DTSTART;TZID=Europe/Luxembourg:20210730T160000
DTEND;TZID=Europe/Luxembourg:20210730T160000
DTSTAMP:20211008T231244
CREATED:20210618T074632Z
LAST-MODIFIED:20210618T074647Z
UID:76157-1627660800-1627660800@walfer.lu
SUMMARY:Exposition : BrainCollective Berlin\, expo interactive et show
DESCRIPTION:
URL:https://walfer.lu/event/exposition-braincollective-berlin-expo-interactive-et-show-2/
LOCATION:Walfer Kulturschapp\, United States
GEO:37.09024;-95.712891
CATEGORIES:Manifestations
END:VEVENT
END:VCALENDAR