BEGIN:VCALENDAR
VERSION:2.0
PRODID:-//Commune de Walferdange - ECPv4.7.3//NONSGML v1.0//EN
CALSCALE:GREGORIAN
METHOD:PUBLISH
X-WR-CALNAME:Commune de Walferdange
X-ORIGINAL-URL:https://walfer.lu
X-WR-CALDESC:Événements pour Commune de Walferdange
BEGIN:VEVENT
DTSTART;VALUE=DATE:20210729
DTEND;VALUE=DATE:20210730
DTSTAMP:20211008T231228
CREATED:20201229T090835Z
LAST-MODIFIED:20201229T090835Z
UID:73944-1627516800-1627603199@walfer.lu
SUMMARY:Verre
DESCRIPTION:
URL:https://walfer.lu/event/verre-70/2021-07-29/
CATEGORIES:Déchets
END:VEVENT
BEGIN:VEVENT
DTSTART;TZID=Europe/Luxembourg:20210729T160000
DTEND;TZID=Europe/Luxembourg:20210729T160000
DTSTAMP:20211008T231228
CREATED:20210618T074625Z
LAST-MODIFIED:20210618T074625Z
UID:76156-1627574400-1627574400@walfer.lu
SUMMARY:Exposition : brainCollective Berlin\, workshop
DESCRIPTION:
URL:https://walfer.lu/event/exposition-braincollective-berlin-workshop-2/
LOCATION:Walfer Kulturschapp\, United States
GEO:37.09024;-95.712891
CATEGORIES:Manifestations
END:VEVENT
END:VCALENDAR