BEGIN:VCALENDAR
VERSION:2.0
PRODID:-//Commune de Walferdange - ECPv4.7.3//NONSGML v1.0//EN
CALSCALE:GREGORIAN
METHOD:PUBLISH
X-WR-CALNAME:Commune de Walferdange
X-ORIGINAL-URL:https://walfer.lu
X-WR-CALDESC:Événements pour Commune de Walferdange
BEGIN:VEVENT
DTSTART;VALUE=DATE:20200827
DTEND;VALUE=DATE:20200828
DTSTAMP:20210424T140811
CREATED:20200106T080113Z
LAST-MODIFIED:20200106T080113Z
UID:66857-1598486400-1598572799@walfer.lu
SUMMARY:Verre
DESCRIPTION:
URL:https://walfer.lu/event/verre-68/2020-08-27/
CATEGORIES:Déchets
END:VEVENT
END:VCALENDAR