BEGIN:VCALENDAR
VERSION:2.0
PRODID:-//Commune de Walferdange - ECPv4.7.3//NONSGML v1.0//EN
CALSCALE:GREGORIAN
METHOD:PUBLISH
X-WR-CALNAME:Commune de Walferdange
X-ORIGINAL-URL:https://walfer.lu
X-WR-CALDESC:Événements pour Commune de Walferdange
BEGIN:VEVENT
DTSTART;VALUE=DATE:20200813
DTEND;VALUE=DATE:20200814
DTSTAMP:20210424T140741
CREATED:20200106T080113Z
LAST-MODIFIED:20200106T080113Z
UID:66856-1597276800-1597363199@walfer.lu
SUMMARY:Verre
DESCRIPTION:
URL:https://walfer.lu/event/verre-68/2020-08-13/
CATEGORIES:Déchets
END:VEVENT
END:VCALENDAR