BEGIN:VCALENDAR
VERSION:2.0
PRODID:-//Commune de Walferdange - ECPv4.7.3//NONSGML v1.0//EN
CALSCALE:GREGORIAN
METHOD:PUBLISH
X-WR-CALNAME:Commune de Walferdange
X-ORIGINAL-URL:https://walfer.lu
X-WR-CALDESC:Événements pour Commune de Walferdange
BEGIN:VEVENT
DTSTART;VALUE=DATE:20200311
DTEND;VALUE=DATE:20200312
DTSTAMP:20210423T233105
CREATED:20200106T092511Z
LAST-MODIFIED:20200106T094853Z
UID:67085-1583884800-1583971199@walfer.lu
SUMMARY:Valorlux
DESCRIPTION:
URL:https://walfer.lu/event/valorlux-42/2020-03-11/
CATEGORIES:Déchets
END:VEVENT
END:VCALENDAR