BEGIN:VCALENDAR
VERSION:2.0
PRODID:-//Commune de Walferdange - ECPv4.7.3//NONSGML v1.0//EN
CALSCALE:GREGORIAN
METHOD:PUBLISH
X-WR-CALNAME:Commune de Walferdange
X-ORIGINAL-URL:https://walfer.lu
X-WR-CALDESC:Événements pour Commune de Walferdange
BEGIN:VEVENT
DTSTART;TZID=Europe/Luxembourg:20210806T150000
DTEND;TZID=Europe/Luxembourg:20210806T150000
DTSTAMP:20211008T231858
CREATED:20210618T074655Z
LAST-MODIFIED:20210618T074655Z
UID:76163-1628262000-1628262000@walfer.lu
SUMMARY:Tir à l'arc
DESCRIPTION:
URL:https://walfer.lu/event/tir-a-larc/
LOCATION:Jugendhaus Woodstock\, United States
GEO:37.09024;-95.712891
END:VEVENT
END:VCALENDAR