BEGIN:VCALENDAR
VERSION:2.0
PRODID:-//Commune de Walferdange - ECPv4.7.3//NONSGML v1.0//EN
CALSCALE:GREGORIAN
METHOD:PUBLISH
X-WR-CALNAME:Commune de Walferdange
X-ORIGINAL-URL:https://walfer.lu
X-WR-CALDESC:Événements pour Commune de Walferdange
BEGIN:VEVENT
DTSTART;VALUE=DATE:20201106
DTEND;VALUE=DATE:20201107
DTSTAMP:20210424T135427
CREATED:20200106T085925Z
LAST-MODIFIED:20200106T090835Z
UID:67062-1604620800-1604707199@walfer.lu
SUMMARY:Sacs jaunes
DESCRIPTION:
URL:https://walfer.lu/event/sacs-jaunes-32/2020-11-06/
CATEGORIES:Déchets
END:VEVENT
END:VCALENDAR