BEGIN:VCALENDAR
VERSION:2.0
PRODID:-//Commune de Walferdange - ECPv4.7.3//NONSGML v1.0//EN
CALSCALE:GREGORIAN
METHOD:PUBLISH
X-WR-CALNAME:Commune de Walferdange
X-ORIGINAL-URL:https://walfer.lu
X-WR-CALDESC:Événements pour Commune de Walferdange
BEGIN:VEVENT
DTSTART;TZID=Europe/Luxembourg:20210605T100000
DTEND;TZID=Europe/Luxembourg:20210605T100000
DTSTAMP:20210722T174311
CREATED:20210622T125407Z
LAST-MODIFIED:20210622T125407Z
UID:76272-1622887200-1622887200@walfer.lu
SUMMARY:Promenade guidée : à la découverte d'orchidées\, de plantes rares et d'oiseaux
DESCRIPTION:
URL:https://walfer.lu/event/promenade-guidee-a-la-decouverte-dorchidees-de-plantes-rares-et-doiseaux/
LOCATION:Villa romaine Helmsange\, United States
GEO:37.09024;-95.712891
CATEGORIES:Manifestations
END:VEVENT
END:VCALENDAR