BEGIN:VCALENDAR
VERSION:2.0
PRODID:-//Commune de Walferdange - ECPv4.7.3//NONSGML v1.0//EN
CALSCALE:GREGORIAN
METHOD:PUBLISH
X-WR-CALNAME:Commune de Walferdange
X-ORIGINAL-URL:https://walfer.lu
X-WR-CALDESC:Événements pour Commune de Walferdange
BEGIN:VEVENT
DTSTART;TZID=Europe/Luxembourg:20210608T090000
DTEND;TZID=Europe/Luxembourg:20210608T090000
DTSTAMP:20210722T174447
CREATED:20210622T125436Z
LAST-MODIFIED:20210622T125436Z
UID:76278-1623142800-1623142800@walfer.lu
SUMMARY:Morgenwanderung
DESCRIPTION:
URL:https://walfer.lu/event/morgenwanderung/
LOCATION:Église Godbrange\, United States
GEO:37.09024;-95.712891
CATEGORIES:Manifestations
END:VEVENT
END:VCALENDAR