BEGIN:VCALENDAR
VERSION:2.0
PRODID:-//Commune de Walferdange - ECPv4.7.3//NONSGML v1.0//EN
CALSCALE:GREGORIAN
METHOD:PUBLISH
X-WR-CALNAME:Commune de Walferdange
X-ORIGINAL-URL:https://walfer.lu
X-WR-CALDESC:Événements pour Commune de Walferdange
BEGIN:VEVENT
DTSTART;TZID=Europe/Luxembourg:20210608T140000
DTEND;TZID=Europe/Luxembourg:20210608T140000
DTSTAMP:20210722T174503
CREATED:20210622T125445Z
LAST-MODIFIED:20210622T125445Z
UID:76279-1623160800-1623160800@walfer.lu
SUMMARY:Komm mir schwätzen driwwer
DESCRIPTION:
URL:https://walfer.lu/event/komm-mir-schwatzen-driwwer/
LOCATION:Jugendhaus Woodstock\, United States
GEO:37.09024;-95.712891
CATEGORIES:Manifestations
END:VEVENT
END:VCALENDAR