BEGIN:VCALENDAR
VERSION:2.0
PRODID:-//Commune de Walferdange - ECPv4.7.3//NONSGML v1.0//EN
CALSCALE:GREGORIAN
METHOD:PUBLISH
X-WR-CALNAME:Commune de Walferdange
X-ORIGINAL-URL:https://walfer.lu
X-WR-CALDESC:Événements pour Commune de Walferdange
BEGIN:VEVENT
DTSTART;TZID=Europe/Luxembourg:19700101T000000
DTEND;TZID=Europe/Luxembourg:19700101T000000
DTSTAMP:20211011T104617
CREATED:20210920T135654Z
LAST-MODIFIED:20210920T141054Z
UID:77700-0-0@walfer.lu
SUMMARY:Gymnastique pour enfants
DESCRIPTION:
URL:https://walfer.lu/event/gymnastique-pour-enfants-21/
LOCATION:Hall sportif Walferdange\, United States
GEO:37.09024;-95.712891
CATEGORIES:Manifestations
END:VEVENT
END:VCALENDAR