BEGIN:VCALENDAR
VERSION:2.0
PRODID:-//Commune de Walferdange - ECPv4.7.3//NONSGML v1.0//EN
CALSCALE:GREGORIAN
METHOD:PUBLISH
X-WR-CALNAME:Commune de Walferdange
X-ORIGINAL-URL:https://walfer.lu
X-WR-CALDESC:Événements pour Commune de Walferdange
BEGIN:VEVENT
DTSTART;TZID=Europe/Luxembourg:20210604T170000
DTEND;TZID=Europe/Luxembourg:20210604T170000
DTSTAMP:20210722T174210
CREATED:20210622T125403Z
LAST-MODIFIED:20210622T125403Z
UID:76271-1622826000-1622826000@walfer.lu
SUMMARY:Exposition Jeff Keiser - Vernissage
DESCRIPTION:
URL:https://walfer.lu/event/exposition-jeff-keiser-vernissage/
LOCATION:Kulturschapp\, United States
GEO:37.09024;-95.712891
CATEGORIES:Manifestations
END:VEVENT
END:VCALENDAR