BEGIN:VCALENDAR
VERSION:2.0
PRODID:-//Commune de Walferdange - ECPv4.7.3//NONSGML v1.0//EN
CALSCALE:GREGORIAN
METHOD:PUBLISH
X-WR-CALNAME:Commune de Walferdange
X-ORIGINAL-URL:https://walfer.lu
X-WR-CALDESC:Événements pour Commune de Walferdange
BEGIN:VEVENT
DTSTART;TZID=Europe/Luxembourg:20210728T160000
DTEND;TZID=Europe/Luxembourg:20210728T160000
DTSTAMP:20211008T231620
CREATED:20210618T074614Z
LAST-MODIFIED:20210618T074614Z
UID:76154-1627488000-1627488000@walfer.lu
SUMMARY:Exposition : BrainCollective Berlin\, workshop
DESCRIPTION:
URL:https://walfer.lu/event/exposition-braincollective-berlin-workshop/
LOCATION:Walfer Kulturschapp\, United States
GEO:37.09024;-95.712891
CATEGORIES:Manifestations
END:VEVENT
END:VCALENDAR