BEGIN:VCALENDAR
VERSION:2.0
PRODID:-//Commune de Walferdange - ECPv4.7.3//NONSGML v1.0//EN
CALSCALE:GREGORIAN
METHOD:PUBLISH
X-WR-CALNAME:Commune de Walferdange
X-ORIGINAL-URL:https://walfer.lu
X-WR-CALDESC:Événements pour Commune de Walferdange
BEGIN:VEVENT
DTSTART;VALUE=DATE:20210813
DTEND;VALUE=DATE:20210814
DTSTAMP:20211008T231948
CREATED:20201229T081025Z
LAST-MODIFIED:20201229T081025Z
UID:73873-1628812800-1628899199@walfer.lu
SUMMARY:Déchets ménagers
DESCRIPTION:
URL:https://walfer.lu/event/dechets-menagers-134/2021-08-13/
CATEGORIES:Déchets
END:VEVENT
END:VCALENDAR