BEGIN:VCALENDAR
VERSION:2.0
PRODID:-//Commune de Walferdange - ECPv4.7.3//NONSGML v1.0//EN
CALSCALE:GREGORIAN
METHOD:PUBLISH
X-WR-CALNAME:Commune de Walferdange
X-ORIGINAL-URL:https://walfer.lu
X-WR-CALDESC:Événements pour Commune de Walferdange
BEGIN:VEVENT
DTSTART;VALUE=DATE:20200508
DTEND;VALUE=DATE:20200509
DTSTAMP:20210424T141239
CREATED:20200106T083713Z
LAST-MODIFIED:20200106T084518Z
UID:66902-1588896000-1588982399@walfer.lu
SUMMARY:Déchets ménagers
DESCRIPTION:
URL:https://walfer.lu/event/dechets-menagers-132/2020-05-08/
CATEGORIES:Déchets
END:VEVENT
END:VCALENDAR