BEGIN:VCALENDAR
VERSION:2.0
PRODID:-//Commune de Walferdange - ECPv4.7.3//NONSGML v1.0//EN
CALSCALE:GREGORIAN
METHOD:PUBLISH
X-WR-CALNAME:Commune de Walferdange
X-ORIGINAL-URL:https://walfer.lu
X-WR-CALDESC:Événements pour Commune de Walferdange
BEGIN:VEVENT
DTSTART;VALUE=DATE:20200313
DTEND;VALUE=DATE:20200314
DTSTAMP:20210424T141133
CREATED:20200106T083713Z
LAST-MODIFIED:20200106T084422Z
UID:66894-1584057600-1584143999@walfer.lu
SUMMARY:Déchets ménagers
DESCRIPTION:
URL:https://walfer.lu/event/dechets-menagers-132/2020-03-13/
CATEGORIES:Déchets
END:VEVENT
END:VCALENDAR