BEGIN:VCALENDAR
VERSION:2.0
PRODID:-//Commune de Walferdange - ECPv4.7.3//NONSGML v1.0//EN
CALSCALE:GREGORIAN
METHOD:PUBLISH
X-WR-CALNAME:Commune de Walferdange
X-ORIGINAL-URL:https://walfer.lu
X-WR-CALDESC:Événements pour Commune de Walferdange
BEGIN:VEVENT
DTSTART;VALUE=DATE:20201102
DTEND;VALUE=DATE:20201103
DTSTAMP:20210424T135341
CREATED:20200106T100149Z
LAST-MODIFIED:20200106T101219Z
UID:67179-1604275200-1604361599@walfer.lu
SUMMARY:Déchets de jardinage
DESCRIPTION:
URL:https://walfer.lu/event/dechets-de-jardinage-112/2020-11-02/
CATEGORIES:Déchets
END:VEVENT
END:VCALENDAR