BEGIN:VCALENDAR
VERSION:2.0
PRODID:-//Commune de Walferdange - ECPv4.7.3//NONSGML v1.0//EN
CALSCALE:GREGORIAN
METHOD:PUBLISH
X-WR-CALNAME:Commune de Walferdange
X-ORIGINAL-URL:https://walfer.lu
X-WR-CALDESC:Événements pour Commune de Walferdange
BEGIN:VEVENT
DTSTART;TZID=Europe/Luxembourg:20211205T142000
DTEND;TZID=Europe/Luxembourg:20211205T142000
DTSTAMP:20211008T230543
CREATED:20210421T130627Z
LAST-MODIFIED:20210426T095901Z
UID:75459-1638714000-1638714000@walfer.lu
SUMMARY:Bicherbus
DESCRIPTION:
URL:https://walfer.lu/event/bicherbus-43/
LOCATION:Arrêt rue Paul Elvinger\, Helmsange\, United States
GEO:37.09024;-95.712891
CATEGORIES:Manifestations
END:VEVENT
END:VCALENDAR