BEGIN:VCALENDAR
VERSION:2.0
PRODID:-//Commune de Walferdange - ECPv4.7.3//NONSGML v1.0//EN
CALSCALE:GREGORIAN
METHOD:PUBLISH
X-WR-CALNAME:Commune de Walferdange
X-ORIGINAL-URL:https://walfer.lu
X-WR-CALDESC:Événements pour Commune de Walferdange
BEGIN:VEVENT
DTSTART;TZID=Europe/Luxembourg:20200116T160000
DTEND;TZID=Europe/Luxembourg:20200116T160000
DTSTAMP:20210424T141005
CREATED:20200103T040221Z
LAST-MODIFIED:20200103T050153Z
UID:66548-1579190400-1579190400@walfer.lu
SUMMARY:Bastel-\, Bau- an Kreativatelier
DESCRIPTION:
URL:https://walfer.lu/event/bastel-bau-an-kreativatelier-14/
LOCATION:Jugendhaus Woodstock\, United States
GEO:37.09024;-95.712891
END:VEVENT
END:VCALENDAR