BEGIN:VCALENDAR
VERSION:2.0
PRODID:-//Commune de Walferdange - ECPv4.7.3//NONSGML v1.0//EN
CALSCALE:GREGORIAN
METHOD:PUBLISH
X-WR-CALNAME:Commune de Walferdange
X-ORIGINAL-URL:https://walfer.lu/de/
X-WR-CALDESC:Veranstaltungen für Commune de Walferdange
BEGIN:VEVENT
DTSTART;TZID=Europe/Luxembourg:20200331T163000
DTEND;TZID=Europe/Luxembourg:20200331T163000
DTSTAMP:20200427T082238
CREATED:20200229T223625Z
LAST-MODIFIED:20200229T223625Z
UID:68747-1585672200-1585672200@walfer.lu
SUMMARY:Museksdag - Radio Woodstock
DESCRIPTION:
URL:https://walfer.lu/de/event/museksdag-radio-woodstock-9/
LOCATION:Jugendhaus Woodstock\, United States
GEO:37.09024;-95.712891
END:VEVENT
END:VCALENDAR